BEGIN:VCALENDAR
VERSION:2.0
PRODID:-//Judoteam - Bramfeld - ECPv6.15.16//NONSGML v1.0//EN
CALSCALE:GREGORIAN
METHOD:PUBLISH
X-ORIGINAL-URL:http://www.judoteam-bramfeld.de
X-WR-CALDESC:Veranstaltungen für Judoteam - Bramfeld
REFRESH-INTERVAL;VALUE=DURATION:PT1H
X-Robots-Tag:noindex
X-PUBLISHED-TTL:PT1H
BEGIN:VTIMEZONE
TZID:Europe/Berlin
BEGIN:DAYLIGHT
TZOFFSETFROM:+0100
TZOFFSETTO:+0200
TZNAME:CEST
DTSTART:20250330T010000
END:DAYLIGHT
BEGIN:STANDARD
TZOFFSETFROM:+0200
TZOFFSETTO:+0100
TZNAME:CET
DTSTART:20251026T010000
END:STANDARD
BEGIN:DAYLIGHT
TZOFFSETFROM:+0100
TZOFFSETTO:+0200
TZNAME:CEST
DTSTART:20260329T010000
END:DAYLIGHT
BEGIN:STANDARD
TZOFFSETFROM:+0200
TZOFFSETTO:+0100
TZNAME:CET
DTSTART:20261025T010000
END:STANDARD
BEGIN:DAYLIGHT
TZOFFSETFROM:+0100
TZOFFSETTO:+0200
TZNAME:CEST
DTSTART:20270328T010000
END:DAYLIGHT
BEGIN:STANDARD
TZOFFSETFROM:+0200
TZOFFSETTO:+0100
TZNAME:CET
DTSTART:20271031T010000
END:STANDARD
END:VTIMEZONE
BEGIN:VEVENT
DTSTART;TZID=Europe/Berlin:20260425T113000
DTEND;TZID=Europe/Berlin:20260425T133000
DTSTAMP:20260422T160410
CREATED:20260421T131748Z
LAST-MODIFIED:20260421T131748Z
UID:10731-1777116600-1777123800@www.judoteam-bramfeld.de
SUMMARY:Judo Sondertraining U12 - U16
DESCRIPTION:In der Sporthalle Heidstücken 33 \nvon 11.30 – 13.15 Uhr (11.15 Uhr Treffen) \nTeilnehmen dürfen wettkampf-interessierte der Jg. 2017 bis 2011
URL:http://www.judoteam-bramfeld.de/turniere/judo-sondertraining-u12-u16/
LOCATION:Heidstücken 33
CATEGORIES:Training
END:VEVENT
END:VCALENDAR