BEGIN:VCALENDAR
VERSION:2.0
PRODID:-//Judoteam - Bramfeld - ECPv6.15.16//NONSGML v1.0//EN
CALSCALE:GREGORIAN
METHOD:PUBLISH
X-ORIGINAL-URL:http://www.judoteam-bramfeld.de
X-WR-CALDESC:Veranstaltungen für Judoteam - Bramfeld
REFRESH-INTERVAL;VALUE=DURATION:PT1H
X-Robots-Tag:noindex
X-PUBLISHED-TTL:PT1H
BEGIN:VTIMEZONE
TZID:Europe/Berlin
BEGIN:DAYLIGHT
TZOFFSETFROM:+0100
TZOFFSETTO:+0200
TZNAME:CEST
DTSTART:20240331T010000
END:DAYLIGHT
BEGIN:STANDARD
TZOFFSETFROM:+0200
TZOFFSETTO:+0100
TZNAME:CET
DTSTART:20241027T010000
END:STANDARD
BEGIN:DAYLIGHT
TZOFFSETFROM:+0100
TZOFFSETTO:+0200
TZNAME:CEST
DTSTART:20250330T010000
END:DAYLIGHT
BEGIN:STANDARD
TZOFFSETFROM:+0200
TZOFFSETTO:+0100
TZNAME:CET
DTSTART:20251026T010000
END:STANDARD
BEGIN:DAYLIGHT
TZOFFSETFROM:+0100
TZOFFSETTO:+0200
TZNAME:CEST
DTSTART:20260329T010000
END:DAYLIGHT
BEGIN:STANDARD
TZOFFSETFROM:+0200
TZOFFSETTO:+0100
TZNAME:CET
DTSTART:20261025T010000
END:STANDARD
BEGIN:DAYLIGHT
TZOFFSETFROM:+0100
TZOFFSETTO:+0200
TZNAME:CEST
DTSTART:20270328T010000
END:DAYLIGHT
BEGIN:STANDARD
TZOFFSETFROM:+0200
TZOFFSETTO:+0100
TZNAME:CET
DTSTART:20271031T010000
END:STANDARD
END:VTIMEZONE
BEGIN:VEVENT
DTSTART;VALUE=DATE:20260418
DTEND;VALUE=DATE:20260419
DTSTAMP:20260422T160533
CREATED:20251128T101639Z
LAST-MODIFIED:20260206T213221Z
UID:10442-1776470400-1776556799@www.judoteam-bramfeld.de
SUMMARY:BST U16
DESCRIPTION:In Duisburg (für Kader-Athleten und jene die in ihn gelangen wollen) \nJahrg. 2011 + 2012 \nLink zur Ausschreibung hier!
URL:http://www.judoteam-bramfeld.de/turniere/bst-u16/
LOCATION:Duisburg
CATEGORIES:Turniere
END:VEVENT
BEGIN:VEVENT
DTSTART;VALUE=DATE:20260418
DTEND;VALUE=DATE:20260419
DTSTAMP:20260422T160533
CREATED:20251116T110810Z
LAST-MODIFIED:20260206T143519Z
UID:10385-1776470400-1776556799@www.judoteam-bramfeld.de
SUMMARY:Friese Masters U11\, U13\, U15\, U18 und U18+
DESCRIPTION:In Stiens (Niederlande) \nAusschreibung: Hier \nU11 = 2017 + 2016 \nU13 = 2015 + 2014 \nU15 = 2013 + 2012 \nU18 = 2011\, 2010 + 2009 \nU18 + = ab Jahrg. 2008 und älter \nMit Übernachtung von Freitag auf Samstag! \nMeldeschluß: 20.02.2026 unter „Turnieranmeldung“
URL:http://www.judoteam-bramfeld.de/turniere/friese-masters-u11-u13-u15-u18-und-u18/
LOCATION:Stiens/NL
CATEGORIES:Turniere
END:VEVENT
BEGIN:VEVENT
DTSTART;TZID=Europe/Berlin:20260411T110000
DTEND;TZID=Europe/Berlin:20260411T130000
DTSTAMP:20260422T160533
CREATED:20260405T090840Z
LAST-MODIFIED:20260405T090840Z
UID:10673-1775905200-1775912400@www.judoteam-bramfeld.de
SUMMARY:Fördertraining U11 - U16
DESCRIPTION:Bei HT16 \nFür die wettkampf-interessierte der Jahrgänge 2017 bis 2011 \nSievekingdamm 1 (Ecke Schwarze Strasse) \nACHTUNG: Parkplätze sind Mangelware \nEs ist der U-Bahnhof Burgstrasse in direkter Nähe \nZeitplan: 11.00 – 13.00 Uhr \nUm vorherige Anmeldung (unter „Turnieranmeldung“ im Navi) wird gebeten!
URL:http://www.judoteam-bramfeld.de/turniere/foerdertraining-u11-u16/
LOCATION:Sievekingdamm
CATEGORIES:Training
END:VEVENT
BEGIN:VEVENT
DTSTART;VALUE=DATE:20260403
DTEND;VALUE=DATE:20260405
DTSTAMP:20260422T160533
CREATED:20260206T212440Z
LAST-MODIFIED:20260206T212440Z
UID:10554-1775174400-1775347199@www.judoteam-bramfeld.de
SUMMARY:Copenhagen Open U15 - F/M
DESCRIPTION:U15\, U18 und U18+ (nur wettkampf-erfahrene) \nWeitere Infos über Gunnar/Tobi
URL:http://www.judoteam-bramfeld.de/turniere/copenhagen-open-u15-f-m/
LOCATION:Kopenhagen/DK
CATEGORIES:Turniere
END:VEVENT
BEGIN:VEVENT
DTSTART;TZID=Europe/Berlin:20260327T160000
DTEND;TZID=Europe/Berlin:20260327T193000
DTSTAMP:20260422T160533
CREATED:20260212T084642Z
LAST-MODIFIED:20260212T084642Z
UID:10574-1774627200-1774639800@www.judoteam-bramfeld.de
SUMMARY:1. off. BSV Vereinsturnier 2026
DESCRIPTION:Ort: Schul-Sporthalle Heidstücken 33\, 22179 HH-Bramfeld \nTeilnehmer: U10 = Jahrgänge 2020 bis 2017 (Weiß bis Gelb- Orange                                     U13 = Jahrgänge 2016 – 2014 (Weiß bis Gelb- Orange Gurt) \nGäste sind: JC TAIYO Sasel\, HT16/Budokan Lübeck\, Tura Harksheide\, TSC Wellingsbüttel\, TSV Hohenhorst und Gastgeber Bramfelder SV  \nZeitplan: Wiegen U10 bis 30\,5 Kg und leichter von 16.15 – 16.30 Uhr \n                     Wiegen U10 ab 30\,6 Kg und schwerer von 18.00 – 18.15 Uhr \n                    Wiegen der U13 (alle) von 18.00 – 18.15 Uhr \nAnzahl Matten: 3
URL:http://www.judoteam-bramfeld.de/turniere/1-off-bsv-vereinsturnier-2026/
LOCATION:Heidstücken 33
CATEGORIES:Turniere
END:VEVENT
BEGIN:VEVENT
DTSTART;TZID=Europe/Berlin:20260321T110000
DTEND;TZID=Europe/Berlin:20260321T130000
DTSTAMP:20260422T160533
CREATED:20260312T110432Z
LAST-MODIFIED:20260312T112654Z
UID:10623-1774090800-1774098000@www.judoteam-bramfeld.de
SUMMARY:Gast-Training bei HT16
DESCRIPTION:Für wettkampf-interessierte Judo-SportlerInnen der Jahrgänge 2016 – 2011 \nZeitplan: 11.00 – 13.00 Uhr \nOrt: Sievekingdamm 1/Ecke Schwarze Strasse im HT16 Sportzentrum (2. OG/Judo-Dojo) \nUm Anmeldung bis zum 19.03. beim Trainer wird gebeten!
URL:http://www.judoteam-bramfeld.de/turniere/gast-training-bei-ht16-3/
LOCATION:HT 16\, Sievekingdamm 1 /Schwarze Str.\, Hamburg\, Germany
CATEGORIES:Training
END:VEVENT
BEGIN:VEVENT
DTSTART;VALUE=DATE:20260308
DTEND;VALUE=DATE:20260309
DTSTAMP:20260422T160533
CREATED:20251116T112339Z
LAST-MODIFIED:20251206T183031Z
UID:10410-1772928000-1773014399@www.judoteam-bramfeld.de
SUMMARY:DEM U21
DESCRIPTION:In Potsdam
URL:http://www.judoteam-bramfeld.de/turniere/dem-u21-2/
LOCATION:Potsdam
CATEGORIES:Meisterschaften
END:VEVENT
BEGIN:VEVENT
DTSTART;TZID=Europe/Berlin:20260307T080000
DTEND;TZID=Europe/Berlin:20260307T170000
DTSTAMP:20260422T160533
CREATED:20251116T112300Z
LAST-MODIFIED:20251206T182956Z
UID:10408-1772870400-1772902800@www.judoteam-bramfeld.de
SUMMARY:DEM U21
DESCRIPTION:In Potsdam
URL:http://www.judoteam-bramfeld.de/turniere/dem-u21/
LOCATION:Potsdam
CATEGORIES:Meisterschaften
END:VEVENT
BEGIN:VEVENT
DTSTART;VALUE=DATE:20260301
DTEND;VALUE=DATE:20260302
DTSTAMP:20260422T160533
CREATED:20251116T112451Z
LAST-MODIFIED:20251206T182916Z
UID:10412-1772323200-1772409599@www.judoteam-bramfeld.de
SUMMARY:DEM U18
DESCRIPTION:In Leipzig
URL:http://www.judoteam-bramfeld.de/turniere/dem-u18-2/
LOCATION:Leipzig
CATEGORIES:Meisterschaften
END:VEVENT
BEGIN:VEVENT
DTSTART;VALUE=DATE:20260228
DTEND;VALUE=DATE:20260301
DTSTAMP:20260422T160533
CREATED:20251216T120037Z
LAST-MODIFIED:20251216T120037Z
UID:10487-1772236800-1772323199@www.judoteam-bramfeld.de
SUMMARY:Has`und Igel-Cup der U10 + U13
DESCRIPTION:In Buxtehude \nU10 = Jahrg. 2017\, 2018 + 2019 (mind. Gelbgurt) \nU13 = Jahrg. 2014\, 2015 + 2016 (mind. Gelbgurt) \nAnmeldung über diese Homepage unter „Turnieranmeldung“ in Navi \nAusschreibung hier!
URL:http://www.judoteam-bramfeld.de/turniere/hasund-igel-cup-der-u10-u13/
LOCATION:Buxtehude
CATEGORIES:Turniere
END:VEVENT
BEGIN:VEVENT
DTSTART;VALUE=DATE:20260228
DTEND;VALUE=DATE:20260301
DTSTAMP:20260422T160533
CREATED:20251116T112159Z
LAST-MODIFIED:20251116T112159Z
UID:10404-1772236800-1772323199@www.judoteam-bramfeld.de
SUMMARY:DEM U18
DESCRIPTION:In Leipzig
URL:http://www.judoteam-bramfeld.de/turniere/dem-u18/
LOCATION:Leipzig
CATEGORIES:Meisterschaften
END:VEVENT
BEGIN:VEVENT
DTSTART;TZID=Europe/Berlin:20260225T183000
DTEND;TZID=Europe/Berlin:20260225T200000
DTSTAMP:20260422T160533
CREATED:20251110T073237Z
LAST-MODIFIED:20251110T073237Z
UID:10379-1772044200-1772049600@www.judoteam-bramfeld.de
SUMMARY:Grüngurt-Prüfung
DESCRIPTION:
URL:http://www.judoteam-bramfeld.de/turniere/gruengurt-pruefung-2/
LOCATION:Heidstücken 33
CATEGORIES:Veranstaltungen
END:VEVENT
BEGIN:VEVENT
DTSTART;TZID=Europe/Berlin:20260222T150000
DTEND;TZID=Europe/Berlin:20260222T180000
DTSTAMP:20260422T160533
CREATED:20251110T073107Z
LAST-MODIFIED:20251110T073107Z
UID:10377-1771772400-1771783200@www.judoteam-bramfeld.de
SUMMARY:Kata-Training für Jugendliche
DESCRIPTION:Im LLZ \nVon 15.00 – 18.00 Uhr \nAnmeldung ist Bedingung!
URL:http://www.judoteam-bramfeld.de/turniere/kata-training-fuer-jugendliche-2/
LOCATION:LLZ
CATEGORIES:Training
END:VEVENT
BEGIN:VEVENT
DTSTART;TZID=Europe/Berlin:20260221T110000
DTEND;TZID=Europe/Berlin:20260221T133000
DTSTAMP:20260422T160533
CREATED:20260105T113436Z
LAST-MODIFIED:20260105T131219Z
UID:10509-1771671600-1771680600@www.judoteam-bramfeld.de
SUMMARY:Gast-Training bei HT16
DESCRIPTION:Für die wettkampf-orientierten U13 und U15 SportlerInnen \nAlso für die Jahrg. 2016 bis 2012 \nUhrzeit: 11.00 – 13.00/30 Uhr \nAdresse: Hier klicken
URL:http://www.judoteam-bramfeld.de/turniere/gast-training-bei-ht16-2/
LOCATION:HT 16\, Sievekingdamm 1 /Schwarze Str.\, Hamburg\, Germany
CATEGORIES:Training
END:VEVENT
BEGIN:VEVENT
DTSTART;VALUE=DATE:20260215
DTEND;VALUE=DATE:20260216
DTSTAMP:20260422T160533
CREATED:20251116T112031Z
LAST-MODIFIED:20260211T073434Z
UID:10402-1771113600-1771199999@www.judoteam-bramfeld.de
SUMMARY:NDEM U21 M/F
DESCRIPTION:In Braunschweig \nFinale Ausschreibung hier!
URL:http://www.judoteam-bramfeld.de/turniere/ndem-u18-21-2/
LOCATION:Braunschweig
CATEGORIES:Meisterschaften
END:VEVENT
BEGIN:VEVENT
DTSTART;VALUE=DATE:20260214
DTEND;VALUE=DATE:20260215
DTSTAMP:20260422T160533
CREATED:20251116T111945Z
LAST-MODIFIED:20260211T073405Z
UID:10400-1771027200-1771113599@www.judoteam-bramfeld.de
SUMMARY:NDEM U18 m/w
DESCRIPTION:In Braunschweig \nFinale Ausschreibung hier!
URL:http://www.judoteam-bramfeld.de/turniere/ndem-u18-21/
LOCATION:Braunschweig
CATEGORIES:Meisterschaften
END:VEVENT
BEGIN:VEVENT
DTSTART;VALUE=DATE:20260207
DTEND;VALUE=DATE:20260208
DTSTAMP:20260422T160533
CREATED:20251116T111822Z
LAST-MODIFIED:20260113T111630Z
UID:10398-1770422400-1770508799@www.judoteam-bramfeld.de
SUMMARY:HEM U18/U21 + Frauen/Männer
DESCRIPTION:Ausrichter: Tura Harksheide \nLink zur Ausschreibung: Hier
URL:http://www.judoteam-bramfeld.de/turniere/hem-u18-21/
LOCATION:Norderstedt
CATEGORIES:Meisterschaften
END:VEVENT
BEGIN:VEVENT
DTSTART;TZID=Europe/Berlin:20260131T113000
DTEND;TZID=Europe/Berlin:20260131T133000
DTSTAMP:20260422T160533
CREATED:20260122T131834Z
LAST-MODIFIED:20260122T131834Z
UID:10527-1769859000-1769866200@www.judoteam-bramfeld.de
SUMMARY:U11/14 - Sondertraining
DESCRIPTION:Teilnehmer: Judo-Sportler der Jahrgänge 2017 – 2013 (mind. Gelbgurt) \nTrainingszeit: 11.15 – 13.15 Uhr \nTrainingsort: Sporthalle Heidstücken 33
URL:http://www.judoteam-bramfeld.de/turniere/u11-14-sondertraining/
LOCATION:Heidstücken 33
CATEGORIES:Training
END:VEVENT
BEGIN:VEVENT
DTSTART;TZID=Europe/Berlin:20260125T113000
DTEND;TZID=Europe/Berlin:20260125T180000
DTSTAMP:20260422T160533
CREATED:20251016T115325Z
LAST-MODIFIED:20251016T115325Z
UID:10329-1769340600-1769364000@www.judoteam-bramfeld.de
SUMMARY:Neujahrsturnier U12
DESCRIPTION:Sonntag\, 25. Januar 2026: \nU12 (2017 – 2015) (Mittags Wiegen) 😉 \nMeldeschluß ist 15. Dezember 2025!!! unter „Turnieranmeldung“ auf dieser Homepage
URL:http://www.judoteam-bramfeld.de/turniere/neujahrsturnier-u12/
LOCATION:Rendsburg
CATEGORIES:Turniere
END:VEVENT
BEGIN:VEVENT
DTSTART;VALUE=DATE:20260124
DTEND;VALUE=DATE:20260125
DTSTAMP:20260422T160533
CREATED:20251016T115211Z
LAST-MODIFIED:20251016T115211Z
UID:10324-1769212800-1769299199@www.judoteam-bramfeld.de
SUMMARY:Neujahrsturnier 2026 U15/18/21 + F/M!
DESCRIPTION:Samstag\, 24. Januar 2026: \nU15 (2014 – 2012)\, U18 (2011 – 2009)\, U21 (2008 – 2006)+ Frauen/Männer (2005 – 1997) \nMeldeschluß ist 15. Dezember 2025!!! unter „Turnieranmeldung“ auf dieser Homepage
URL:http://www.judoteam-bramfeld.de/turniere/neujahrsturnier-2026-u15-18-21-f-m/
LOCATION:Rendsburg
CATEGORIES:Turniere
END:VEVENT
BEGIN:VEVENT
DTSTART;TZID=Europe/Berlin:20260117T110000
DTEND;TZID=Europe/Berlin:20260117T133000
DTSTAMP:20260422T160533
CREATED:20260105T113254Z
LAST-MODIFIED:20260105T131127Z
UID:10506-1768647600-1768656600@www.judoteam-bramfeld.de
SUMMARY:Gast-Training bei HT16
DESCRIPTION:Für die wettkampf-orientierten U13 und U15 SportlerInnen \nAlso für die Jahrg. 2016 bis 2012 \nUhrzeit: 11.00 – 13.00/30 Uhr \nAdresse: Hier klicken
URL:http://www.judoteam-bramfeld.de/turniere/gast-training-bei-ht16/
LOCATION:HT 16\, Sievekingdamm 1 /Schwarze Str.\, Hamburg\, Germany
CATEGORIES:Training
END:VEVENT
BEGIN:VEVENT
DTSTART;VALUE=DATE:20260117
DTEND;VALUE=DATE:20260118
DTSTAMP:20260422T160533
CREATED:20251116T111445Z
LAST-MODIFIED:20251220T073018Z
UID:10392-1768608000-1768694399@www.judoteam-bramfeld.de
SUMMARY:Ranglisten-Turnier U21 Männer
DESCRIPTION:In Straußberg \nMeldeschluß: 11.01.2026 \nAusschreibung hier!
URL:http://www.judoteam-bramfeld.de/turniere/ranglisten-turnier-u21-maenner/
LOCATION:Strausberg
CATEGORIES:Turniere
END:VEVENT
BEGIN:VEVENT
DTSTART;TZID=Europe/Berlin:20260110T150000
DTEND;TZID=Europe/Berlin:20260110T180000
DTSTAMP:20260422T160533
CREATED:20251110T072955Z
LAST-MODIFIED:20251116T111056Z
UID:10375-1768057200-1768068000@www.judoteam-bramfeld.de
SUMMARY:Kata-Training für Jugendliche
DESCRIPTION:ACHTUNG! Samstag! \nIm LLZ \nVon 15.00 – 18.00 Uhr \nAnmeldung ist Bedingung!
URL:http://www.judoteam-bramfeld.de/turniere/kata-training-fuer-jugendliche/
LOCATION:LLZ
CATEGORIES:Training
END:VEVENT
BEGIN:VEVENT
DTSTART;VALUE=DATE:20260110
DTEND;VALUE=DATE:20260111
DTSTAMP:20260422T160533
CREATED:20251206T182715Z
LAST-MODIFIED:20251206T182804Z
UID:10477-1768003200-1768089599@www.judoteam-bramfeld.de
SUMMARY:Herman-Cup U15/18
DESCRIPTION:In Schwerin
URL:http://www.judoteam-bramfeld.de/turniere/herman-cup-u15-18/
LOCATION:Schwerin
CATEGORIES:Turniere
END:VEVENT
BEGIN:VEVENT
DTSTART;TZID=Europe/Berlin:20260105T163000
DTEND;TZID=Europe/Berlin:20260105T213000
DTSTAMP:20260422T160533
CREATED:20251203T073428Z
LAST-MODIFIED:20251203T073428Z
UID:10459-1767630600-1767648600@www.judoteam-bramfeld.de
SUMMARY:Erster Judo-Trainingstag in 2026
DESCRIPTION:Trainingszeiten wie gewohnt! \nAchtung: Ab sofort rutschen einige Jahrgänge in die nächste Judo-Gruppe \nU8 = 2021 (ab 5 Jahre!)\, 2020 + 2019 \nU10 = Jahrg. 2017\, 2018 + 2019 \nU11 = 2016\, 2017 + 2018 \nU13 = 2014\, 2015 + 2016 \nU14 = 2013\, 2014 + 2015 \nU15 = 2012\, 2013 + 2014 \nU18 = 2011\, 2010 + 2009 \nEinige Jahrgänge sind „Doppelstarter“ und somit mehrfach vertreten!
URL:http://www.judoteam-bramfeld.de/turniere/erster-judo-trainingstag-in-2026/
LOCATION:Sporthalle STS Bramf. Dorfplatz
CATEGORIES:Training
END:VEVENT
BEGIN:VEVENT
DTSTART;TZID=Europe/Berlin:20260103T113000
DTEND;TZID=Europe/Berlin:20260103T133000
DTSTAMP:20260422T160533
CREATED:20251227T141136Z
LAST-MODIFIED:20251227T141219Z
UID:10503-1767439800-1767447000@www.judoteam-bramfeld.de
SUMMARY:Neujahr Starter-Training für Wettkämpfer
DESCRIPTION:Für U13\, U15\, U18 + Erwachsene \nTreffen um 11.15 Sporthalle Heidstücken 33
URL:http://www.judoteam-bramfeld.de/turniere/neujahr-starter-training/
LOCATION:Heidstücken 33
CATEGORIES:Training
END:VEVENT
BEGIN:VEVENT
DTSTART;TZID=Europe/Berlin:20251224T100000
DTEND;TZID=Europe/Berlin:20251224T113000
DTSTAMP:20260422T160533
CREATED:20251212T143501Z
LAST-MODIFIED:20251212T143501Z
UID:10482-1766570400-1766575800@www.judoteam-bramfeld.de
SUMMARY:Weihnachtstraining am Heiligabend
DESCRIPTION:Datum: 24. Dezember 2025 \nOrt: Heidstücken 33 \nZeit: 10.00 – 11.30 Uhr \nWer: Alle Judo-Kinder und Jugendliche \nBitte kommt in Judogi und bringt wie immer etwas zu trinken mit. \nEine Anmeldung ist nicht verpflichtend\, hilft aber bei der Planung.\nRückmeldungen daher gerne per Mail hier!
URL:http://www.judoteam-bramfeld.de/turniere/weihnachtstraining-am-heiligabend/
LOCATION:Heidstücken 33
CATEGORIES:Training,Veranstaltungen
END:VEVENT
BEGIN:VEVENT
DTSTART;TZID=Europe/Berlin:20251215T170000
DTEND;TZID=Europe/Berlin:20251215T210000
DTSTAMP:20260422T160533
CREATED:20251203T072831Z
LAST-MODIFIED:20251203T072831Z
UID:10455-1765818000-1765832400@www.judoteam-bramfeld.de
SUMMARY:Letzter Trainingstag in 2025
DESCRIPTION:U11/13/15 von 17.00 – 19.00 Uhr \nSpiele und Randori \nU16/18/21/Erwachsene von 19.15 – 21.15 Uhr \nSpiele und Randori
URL:http://www.judoteam-bramfeld.de/turniere/letzter-trainingstag-in-2025/
LOCATION:Sporthalle STS Bramf. Dorfplatz
CATEGORIES:Training
END:VEVENT
BEGIN:VEVENT
DTSTART;TZID=Europe/Berlin:20251213T120000
DTEND;TZID=Europe/Berlin:20251213T143000
DTSTAMP:20260422T160533
CREATED:20251205T164643Z
LAST-MODIFIED:20251205T164643Z
UID:10471-1765627200-1765636200@www.judoteam-bramfeld.de
SUMMARY:4 Bundesländer-Training U15
DESCRIPTION:U15 = Jahrgänge 2011\, 2012 + 2013 (Wettkampf-Erfahrung und mind. 7. Kyu) \nIm LLZ (Euelnkamp 75\, 22049 HH-Dulsberg) \nvon 12.15 – 14.30 Uhr \nAls Gäste sind eingeladen sind die U15 aus Brandenburg\, Sachsen und Niedersachsen
URL:http://www.judoteam-bramfeld.de/turniere/4-bundeslaender-training-u15/
LOCATION:LLZ
CATEGORIES:Training
END:VEVENT
BEGIN:VEVENT
DTSTART;TZID=Europe/Berlin:20251207T150000
DTEND;TZID=Europe/Berlin:20251207T180000
DTSTAMP:20260422T160533
CREATED:20251014T103246Z
LAST-MODIFIED:20251014T103246Z
UID:10319-1765119600-1765130400@www.judoteam-bramfeld.de
SUMMARY:Kata-Training zum Grüngurt
DESCRIPTION:Kata-Training ist Pflicht für die Bramfelder und JC TAIYO Judo-Sportler\, \num den 3. Kyu (Grüngurt) machen zu dürfen! \nBitte nur mit einem/r festen Kata-PartnerIn \nAdresse: Eulenkamp 75 (LLZ des HJV) \n15.00 – 18.00 Uhr \nVorherige Anmeldung (spätestens bis 2 Tage vorher) ist Bedingung für die Teilnahme!
URL:http://www.judoteam-bramfeld.de/turniere/kata-training-zum-gruengurt-2/
LOCATION:LLZ
CATEGORIES:Training
END:VEVENT
END:VCALENDAR